BEGIN:VCALENDAR
VERSION:2.0
PRODID:-//Kirkpatrick Farms - ECPv5.9.1//NONSGML v1.0//EN
CALSCALE:GREGORIAN
METHOD:PUBLISH
X-WR-CALNAME:Kirkpatrick Farms
X-ORIGINAL-URL:https://www.kirkpatrickfarms.com
X-WR-CALDESC:Events for Kirkpatrick Farms
BEGIN:VTIMEZONE
TZID:America/New_York
BEGIN:DAYLIGHT
TZOFFSETFROM:-0500
TZOFFSETTO:-0400
TZNAME:EDT
DTSTART:20250309T070000
END:DAYLIGHT
BEGIN:STANDARD
TZOFFSETFROM:-0400
TZOFFSETTO:-0500
TZNAME:EST
DTSTART:20251102T060000
END:STANDARD
END:VTIMEZONE
BEGIN:VEVENT
DTSTART;TZID=America/New_York:20251212T170000
DTEND;TZID=America/New_York:20251212T190000
DTSTAMP:20260419T231523
CREATED:20251118T022211Z
LAST-MODIFIED:20251208T225345Z
UID:3309-1765558800-1765566000@www.kirkpatrickfarms.com
SUMMARY:Winter Wonderland Holiday Event
DESCRIPTION:The Clubhouse transforms into a Winter Wonderland on Friday\, December 12th\, from 5:00 pm – 7:00 pm.   Join us for a special holiday event featuring photos with Santa\, delicious cookies\, hot cocoa\, and more fun activities. \nWe look forward to seeing you! \n 
URL:https://www.kirkpatrickfarms.com/event/save-the-date-winter-wonderland-holiday-event/
LOCATION:Kirkpatrick Farms\, Clubhouse\, 25520 Summerall Dr\, Aldie\, VA\, United States
CATEGORIES:Events
END:VEVENT
END:VCALENDAR